BEGIN:VCALENDAR
VERSION:2.0
PRODID:-//Scuderia Scribante - ECPv6.15.20//NONSGML v1.0//EN
CALSCALE:GREGORIAN
METHOD:PUBLISH
X-WR-CALNAME:Scuderia Scribante
X-ORIGINAL-URL:https://scuderiascribante.co.za
X-WR-CALDESC:Events for Scuderia Scribante
REFRESH-INTERVAL;VALUE=DURATION:PT1H
X-Robots-Tag:noindex
X-PUBLISHED-TTL:PT1H
BEGIN:VTIMEZONE
TZID:Africa/Johannesburg
BEGIN:STANDARD
TZOFFSETFROM:+0200
TZOFFSETTO:+0200
TZNAME:SAST
DTSTART:20220101T000000
END:STANDARD
END:VTIMEZONE
BEGIN:VEVENT
DTSTART;VALUE=DATE:20240315
DTEND;VALUE=DATE:20240317
DTSTAMP:20260423T002415
CREATED:20240122T100950Z
LAST-MODIFIED:20240131T112909Z
UID:12025-1710460800-1710633599@scuderiascribante.co.za
SUMMARY:Extreme Supercars Driven by Dunlop (Round 2)
DESCRIPTION:Killarney Motor Racing Complex\, whose main race track is also known as Killarney International Raceway\, is a motor racing complex in Milnerton Rural\, Cape Town\, South Africa\, which first saw action in 1947.
URL:https://scuderiascribante.co.za/event/extreme-supercars-driven-by-dunlop-round-2/
LOCATION:Killarney Raceway\, 6 Potsdam Road\, Table View\, Cape Town\, Western Cape\, 7439\, South Africa
CATEGORIES:Motor Racing
ATTACH;FMTTYPE=image/png:https://scuderiascribante.co.za/wp-content/uploads/2023/05/Killaney-International_race-Track.png
END:VEVENT
BEGIN:VEVENT
DTSTART;VALUE=DATE:20240309
DTEND;VALUE=DATE:20240310
DTSTAMP:20260423T002415
CREATED:20240120T162638Z
LAST-MODIFIED:20240120T162638Z
UID:11994-1709942400-1710028799@scuderiascribante.co.za
SUMMARY:Karting Round 2
DESCRIPTION:The Celso Scribante Kart Track in Port Elizabeth is the Eastern Cape’s premier kart racing track and home to the Algoa Kart and Motorcycle Club. The circuit is a base for development karting and has produced many National Champions. \nClasses hosted at the track include: – Cadets – GP Junior – Tag Junior – Formula 125 Light – Formula 125 Heavy – Super Rok
URL:https://scuderiascribante.co.za/event/karting-round-2/
LOCATION:Celso Scribante Kart Track\, Celso Scribante Short Circuit\, Schoenmakerskop\, Port Elizabeth\, Eastern Cape\, 6001\, South Africa
CATEGORIES:Kart Racing
ATTACH;FMTTYPE=image/jpeg:https://scuderiascribante.co.za/wp-content/uploads/2024/01/Celso-scribante-kart-track.jpg
END:VEVENT
BEGIN:VEVENT
DTSTART;TZID=Africa/Johannesburg:20240211T080000
DTEND;TZID=Africa/Johannesburg:20240215T170000
DTSTAMP:20260423T002415
CREATED:20240122T095329Z
LAST-MODIFIED:20240122T095329Z
UID:12019-1707638400-1708016400@scuderiascribante.co.za
SUMMARY:Mercedes Tour
DESCRIPTION:
URL:https://scuderiascribante.co.za/event/mercedes-tour/
CATEGORIES:Motor Racing
END:VEVENT
BEGIN:VEVENT
DTSTART;VALUE=DATE:20240210
DTEND;VALUE=DATE:20240212
DTSTAMP:20260423T002415
CREATED:20240122T094744Z
LAST-MODIFIED:20240122T094744Z
UID:12016-1707523200-1707695999@scuderiascribante.co.za
SUMMARY:George Motor Show
DESCRIPTION:Are you ready to take a nostalgic journey through the annals of automotive history? The annual National George Old Car Show\, held in the picturesque town of George\, is just around the corner\, and it’s promising to be an unforgettable celebration of classic motors and a tribute to the bygone era of automotive design and craftsmanship.\nJoin us on 10-11 February 2024 as we rev up the engines of the past and cruise down memory lane at the George Old Car Show. \nWhat to expect:\n Exhibitions of magnificent old motors eager to share their incredible stories with you.\n Food and novelty stalls offering souvenirs you can take home with you.\n An exciting auction featuring fantastic lots that every car enthusiast would love.\n And that’s not all! The International Oompah band will be serenading the crowds on Sunday\, adding a delightful musical note to your nostalgic journey. \nDon’t miss out on this spectacular show dedicated to the old cars that have driven their way through history. \nGet your tickets to the George Old Car Show NOW at an Early Bird Discount: itickets.co.za/events/475607\nGot a classic car of your own? Register it here: scocc.co.za/register/index-new.php and be a part of this fantastic celebration of automotive heritage. \nCome join us for a weekend filled with classic cars\, great company\, and unforgettable memories. See you at the George Old Car Show.\nTicket Price: itickets.co.za/events/475607\nVenue: Eden Technical Highschool\nFacebook: facebook.com/SouthernCapeOldCarClub
URL:https://scuderiascribante.co.za/event/george-motor-show/
CATEGORIES:Motor Racing
ATTACH;FMTTYPE=image/webp:https://scuderiascribante.co.za/wp-content/uploads/2024/01/396981836_827299176069560_8636290044405087453_n-1024x1024-1.webp
END:VEVENT
BEGIN:VEVENT
DTSTART;VALUE=DATE:20240203
DTEND;VALUE=DATE:20240204
DTSTAMP:20260423T002415
CREATED:20240120T162501Z
LAST-MODIFIED:20240120T162501Z
UID:11992-1706918400-1707004799@scuderiascribante.co.za
SUMMARY:Karting Round 1
DESCRIPTION:The Celso Scribante Kart Track in Port Elizabeth is the Eastern Cape’s premier kart racing track and home to the Algoa Kart and Motorcycle Club. The circuit is a base for development karting and has produced many National Champions. \nClasses hosted at the track include: – Cadets – GP Junior – Tag Junior – Formula 125 Light – Formula 125 Heavy – Super Rok
URL:https://scuderiascribante.co.za/event/karting-round-1/
LOCATION:Celso Scribante Kart Track\, Celso Scribante Short Circuit\, Schoenmakerskop\, Port Elizabeth\, Eastern Cape\, 6001\, South Africa
CATEGORIES:Kart Racing
ATTACH;FMTTYPE=image/jpeg:https://scuderiascribante.co.za/wp-content/uploads/2024/01/Celso-scribante-kart-track.jpg
END:VEVENT
BEGIN:VEVENT
DTSTART;VALUE=DATE:20240127
DTEND;VALUE=DATE:20240128
DTSTAMP:20260423T002415
CREATED:20240120T162226Z
LAST-MODIFIED:20240404T132540Z
UID:11990-1706313600-1706399999@scuderiascribante.co.za
SUMMARY:Festival of Speed / G&H Round 1
DESCRIPTION:Zwartskop Raceway is a renowned motorsport complex located in Pretoria. With a rich history and a reputation for thrilling racing events\, Zwartskop Raceway has become a beloved destination for motorsport enthusiasts and professionals alike. \nThe raceway features a meticulously designed track that offers a challenging and exhilarating experience for drivers. Its layout incorporates a mix of straightaways\, hairpin turns\, and technical corners\, providing a diverse and exciting environment for racing competitions. Whether it’s car racing or motorcycle championships\, Zwartskop Raceway has witnessed some of the most gripping battles and memorable moments in motorsport. \nBeyond its track\, Zwartskop Raceway boasts a vibrant and passionate community. The paddock area serves as a hub for racing teams\, mechanics\, and avid fans\, fostering an atmosphere of camaraderie and shared enthusiasm. It’s a place where petrolheads can come together\, exchange stories\, and immerse themselves in the world of automotive culture. \nIn addition to its thrilling racing action\, Zwartskop Raceway offers a range of amenities for visitors. Spectator stands provide excellent views of the track\, ensuring that everyone can witness the intense racing up close. The pit areas are well-equipped\, catering to the needs of teams and providing a space for mechanics to fine-tune their vehicles.
URL:https://scuderiascribante.co.za/event/festival-of-speed-gh-round-1/
LOCATION:Zwartkops Raceway\, R55\, Lekkerhoekie 450-Jr\, Pretoria\, Gauteng\, 0137\, South Africa
CATEGORIES:Motor Racing
ATTACH;FMTTYPE=image/png:https://scuderiascribante.co.za/wp-content/uploads/2023/03/Zwartkops-Raceway.png
ORGANIZER;CN="Speed Festival":MAILTO:info@speedfestival.co.za
END:VEVENT
BEGIN:VEVENT
DTSTART;VALUE=DATE:20231209
DTEND;VALUE=DATE:20231210
DTSTAMP:20260423T002415
CREATED:20231206T095452Z
LAST-MODIFIED:20240120T133844Z
UID:11862-1702080000-1702166399@scuderiascribante.co.za
SUMMARY:Karting-Fun Day & Annual Prize Giving
DESCRIPTION:The Celso Scribante Kart Track in Port Elizabeth is the Eastern Cape’s premier kart racing track and home to the Algoa Kart and Motorcycle Club. The circuit is a base for development karting and has produced many National Champions. \nClasses hosted at the track include: – Cadets – GP Junior – Tag Junior – Formula 125 Light – Formula 125 Heavy – Super Rok
URL:https://scuderiascribante.co.za/event/karting-fun-day-annual-prize-giving/
LOCATION:Celso Scribante Kart Track\, Celso Scribante Short Circuit\, Schoenmakerskop\, Port Elizabeth\, Eastern Cape\, 6001\, South Africa
CATEGORIES:Kart Racing,Motor Racing
ATTACH;FMTTYPE=image/jpeg:https://scuderiascribante.co.za/wp-content/uploads/2024/01/Celso-scribante-kart-track.jpg
END:VEVENT
BEGIN:VEVENT
DTSTART;VALUE=DATE:20231118
DTEND;VALUE=DATE:20231119
DTSTAMP:20260423T002415
CREATED:20231206T100939Z
LAST-MODIFIED:20231206T100939Z
UID:11871-1700265600-1700351999@scuderiascribante.co.za
SUMMARY:G&H Supercars
DESCRIPTION:Zwartskop Raceway is a renowned motorsport complex located in Pretoria. With a rich history and a reputation for thrilling racing events\, Zwartskop Raceway has become a beloved destination for motorsport enthusiasts and professionals alike. \nThe raceway features a meticulously designed track that offers a challenging and exhilarating experience for drivers. Its layout incorporates a mix of straightaways\, hairpin turns\, and technical corners\, providing a diverse and exciting environment for racing competitions. Whether it’s car racing or motorcycle championships\, Zwartskop Raceway has witnessed some of the most gripping battles and memorable moments in motorsport. \nBeyond its track\, Zwartskop Raceway boasts a vibrant and passionate community. The paddock area serves as a hub for racing teams\, mechanics\, and avid fans\, fostering an atmosphere of camaraderie and shared enthusiasm. It’s a place where petrolheads can come together\, exchange stories\, and immerse themselves in the world of automotive culture. \nIn addition to its thrilling racing action\, Zwartskop Raceway offers a range of amenities for visitors. Spectator stands provide excellent views of the track\, ensuring that everyone can witness the intense racing up close. The pit areas are well-equipped\, catering to the needs of teams and providing a space for mechanics to fine-tune their vehicles.
URL:https://scuderiascribante.co.za/event/gh-supercars/
LOCATION:Zwartkops Raceway\, R55\, Lekkerhoekie 450-Jr\, Pretoria\, Gauteng\, 0137\, South Africa
CATEGORIES:Motor Racing
ATTACH;FMTTYPE=image/png:https://scuderiascribante.co.za/wp-content/uploads/2023/03/Zwartkops-Raceway.png
END:VEVENT
BEGIN:VEVENT
DTSTART;VALUE=DATE:20231118
DTEND;VALUE=DATE:20231119
DTSTAMP:20260423T002415
CREATED:20231206T095647Z
LAST-MODIFIED:20240120T133906Z
UID:11866-1700265600-1700351999@scuderiascribante.co.za
SUMMARY:Karting-Regional Round 8
DESCRIPTION:The Celso Scribante Kart Track in Port Elizabeth is the Eastern Cape’s premier kart racing track and home to the Algoa Kart and Motorcycle Club. The circuit is a base for development karting and has produced many National Champions. \nClasses hosted at the track include: – Cadets – GP Junior – Tag Junior – Formula 125 Light – Formula 125 Heavy – Super Rok
URL:https://scuderiascribante.co.za/event/karting-regional-round-8/
LOCATION:Celso Scribante Kart Track\, Celso Scribante Short Circuit\, Schoenmakerskop\, Port Elizabeth\, Eastern Cape\, 6001\, South Africa
CATEGORIES:Kart Racing,Motor Racing
ATTACH;FMTTYPE=image/jpeg:https://scuderiascribante.co.za/wp-content/uploads/2024/01/Celso-scribante-kart-track.jpg
END:VEVENT
BEGIN:VEVENT
DTSTART;TZID=Africa/Johannesburg:20231103T080000
DTEND;TZID=Africa/Johannesburg:20231103T170000
DTSTAMP:20260423T002415
CREATED:20231130T114511Z
LAST-MODIFIED:20231130T114511Z
UID:11775-1698998400-1699030800@scuderiascribante.co.za
SUMMARY:Zwartkops Raceway Hot Laps
DESCRIPTION:Experience the thrill of a lifetime with our exhilarating Hot Lap in a Scuderia Scribante Lamborghini Huracan! Strap yourself in and prepare for an adrenaline-pumping adventure that will leave you breathless. \nImagine being seated in the cockpit of a high-performance Lamborghini Race Car\, surrounded by the raw power and precision engineering that defines the world of motorsports. As our professional racing driver takes the wheel\, you will be propelled into a world where speed\, skill\, and sheer excitement reign supreme. \nOur Hot Lap experience offers you the unique opportunity to witness first-hand what it feels like to tear through the track at blistering speeds. Feel the surge of acceleration as the engine roars to life\, and the G-forces push you back into your seat. Hold on tight as the expert driver skillfully manoeuvres around corners\, delivering a heart-stopping display of precision and control. \n\n BOOK A HOT LAP
URL:https://scuderiascribante.co.za/event/zwartkops-raceway-hot-laps-2/
LOCATION:Zwartkops Raceway\, R55\, Lekkerhoekie 450-Jr\, Pretoria\, Gauteng\, 0137\, South Africa
CATEGORIES:Hot Laps
ATTACH;FMTTYPE=image/jpeg:https://scuderiascribante.co.za/wp-content/uploads/2022/08/Hot-Laps-7.jpg
ORGANIZER;CN="Francesca Scribante":MAILTO:fran@scuderiascribante.co.za
END:VEVENT
BEGIN:VEVENT
DTSTART;VALUE=DATE:20231021
DTEND;VALUE=DATE:20231022
DTSTAMP:20260423T002415
CREATED:20230717T183119Z
LAST-MODIFIED:20230728T120119Z
UID:11423-1697846400-1697932799@scuderiascribante.co.za
SUMMARY:SAGT - Round 7 & 8
DESCRIPTION:Zwartkops Raceway is a popular motorsport facility located in Centurion\, South Africa. It is one of the country’s premier motorsport venues and has a rich history of hosting various motorsport events and races. The raceway is situated approximately 25 kilometers west of Pretoria and about 40 kilometers north of Johannesburg. \nThe track features a variety of layouts and configurations\, making it suitable for different types of motorsport disciplines\, including car and motorcycle racing. Zwartkops Raceway has been the venue for numerous local and international racing competitions\, including championships and one-off events. \nThe facility includes spectator stands\, paddock areas\, and pit garages\, providing an excellent experience for both participants and fans. It has attracted a wide range of motorsport enthusiasts\, from amateur racers to professional drivers\, and has become a hub for motorsport activities in the Gauteng province. \nEvents held at Zwartkops Raceway have included national and regional championships\, club racing\, drifting competitions\, endurance races\, and various testing and track days. The raceway’s versatility and proximity to major urban centers have contributed to its popularity among motorsport enthusiasts and participants.
URL:https://scuderiascribante.co.za/event/sagt-round-7-8/
LOCATION:Zwartkops Raceway\, R55\, Lekkerhoekie 450-Jr\, Pretoria\, Gauteng\, 0137\, South Africa
CATEGORIES:Motor Racing
ATTACH;FMTTYPE=image/png:https://scuderiascribante.co.za/wp-content/uploads/2023/03/Zwartkops-Raceway.png
END:VEVENT
BEGIN:VEVENT
DTSTART;VALUE=DATE:20230930
DTEND;VALUE=DATE:20231001
DTSTAMP:20260423T002415
CREATED:20231206T101053Z
LAST-MODIFIED:20240120T133928Z
UID:11873-1696032000-1696118399@scuderiascribante.co.za
SUMMARY:Karting-Regional Round 6
DESCRIPTION:The Celso Scribante Kart Track in Port Elizabeth is the Eastern Cape’s premier kart racing track and home to the Algoa Kart and Motorcycle Club. The circuit is a base for development karting and has produced many National Champions. \nClasses hosted at the track include: – Cadets – GP Junior – Tag Junior – Formula 125 Light – Formula 125 Heavy – Super Rok
URL:https://scuderiascribante.co.za/event/karting-regional-round-6/
LOCATION:Celso Scribante Kart Track\, Celso Scribante Short Circuit\, Schoenmakerskop\, Port Elizabeth\, Eastern Cape\, 6001\, South Africa
CATEGORIES:Kart Racing,Motor Racing
ATTACH;FMTTYPE=image/jpeg:https://scuderiascribante.co.za/wp-content/uploads/2024/01/Celso-scribante-kart-track.jpg
END:VEVENT
BEGIN:VEVENT
DTSTART;VALUE=DATE:20230812
DTEND;VALUE=DATE:20230813
DTSTAMP:20260423T002415
CREATED:20231206T095751Z
LAST-MODIFIED:20240120T133951Z
UID:11868-1691798400-1691884799@scuderiascribante.co.za
SUMMARY:Karting-Regional Round 5
DESCRIPTION:The Celso Scribante Kart Track in Port Elizabeth is the Eastern Cape’s premier kart racing track and home to the Algoa Kart and Motorcycle Club. The circuit is a base for development karting and has produced many National Champions. \nClasses hosted at the track include: – Cadets – GP Junior – Tag Junior – Formula 125 Light – Formula 125 Heavy – Super Rok
URL:https://scuderiascribante.co.za/event/karting-regional-round-5/
LOCATION:Celso Scribante Kart Track\, Celso Scribante Short Circuit\, Schoenmakerskop\, Port Elizabeth\, Eastern Cape\, 6001\, South Africa
CATEGORIES:Kart Racing,Motor Racing
ATTACH;FMTTYPE=image/jpeg:https://scuderiascribante.co.za/wp-content/uploads/2024/01/Celso-scribante-kart-track.jpg
END:VEVENT
BEGIN:VEVENT
DTSTART;VALUE=DATE:20230610
DTEND;VALUE=DATE:20230611
DTSTAMP:20260423T002415
CREATED:20231206T101404Z
LAST-MODIFIED:20240120T134014Z
UID:11877-1686355200-1686441599@scuderiascribante.co.za
SUMMARY:Karting-Regional Round 4
DESCRIPTION:The Celso Scribante Kart Track in Port Elizabeth is the Eastern Cape’s premier kart racing track and home to the Algoa Kart and Motorcycle Club. The circuit is a base for development karting and has produced many National Champions. \nClasses hosted at the track include: – Cadets – GP Junior – Tag Junior – Formula 125 Light – Formula 125 Heavy – Super Rok
URL:https://scuderiascribante.co.za/event/karting-regional-round-4/
LOCATION:Celso Scribante Kart Track\, Celso Scribante Short Circuit\, Schoenmakerskop\, Port Elizabeth\, Eastern Cape\, 6001\, South Africa
CATEGORIES:Kart Racing,Motor Racing
ATTACH;FMTTYPE=image/jpeg:https://scuderiascribante.co.za/wp-content/uploads/2024/01/Celso-scribante-kart-track.jpg
END:VEVENT
BEGIN:VEVENT
DTSTART;VALUE=DATE:20230513
DTEND;VALUE=DATE:20230514
DTSTAMP:20260423T002415
CREATED:20231206T101508Z
LAST-MODIFIED:20240120T134039Z
UID:11880-1683936000-1684022399@scuderiascribante.co.za
SUMMARY:Karting-Regional Round 3
DESCRIPTION:The Celso Scribante Kart Track in Port Elizabeth is the Eastern Cape’s premier kart racing track and home to the Algoa Kart and Motorcycle Club. The circuit is a base for development karting and has produced many National Champions. \nClasses hosted at the track include: – Cadets – GP Junior – Tag Junior – Formula 125 Light – Formula 125 Heavy – Super Rok
URL:https://scuderiascribante.co.za/event/karting-regional-round-3/
LOCATION:Celso Scribante Kart Track\, Celso Scribante Short Circuit\, Schoenmakerskop\, Port Elizabeth\, Eastern Cape\, 6001\, South Africa
CATEGORIES:Kart Racing,Motor Racing
ATTACH;FMTTYPE=image/jpeg:https://scuderiascribante.co.za/wp-content/uploads/2024/01/Celso-scribante-kart-track.jpg
END:VEVENT
BEGIN:VEVENT
DTSTART;VALUE=DATE:20230504
DTEND;VALUE=DATE:20230508
DTSTAMP:20260423T002415
CREATED:20230522T193521Z
LAST-MODIFIED:20230522T193901Z
UID:10574-1683158400-1683503999@scuderiascribante.co.za
SUMMARY:Knysna Hill Climb
DESCRIPTION:The Simola Hillclimb will run over four days – from Thursday to Sunday and will include the following elements: \nClassic Car Friday\nClassic Car Friday\,  catering exclusively for historic\, classic and vintage cars\, kicks off on Thursday at the Fan Fest where cars will be scrutineered and on public display until it closed with the very popular and entertaining parade in Waterfront Drive. \nThe glorious cars from pre-war to 1985 will grace the hill on Friday while drivers\, friends and spectators are encouraged to attend in period dress. \nAs with the King of the Hill entries\, the event is an invitational and we are always oversubscribed for Classic Car Friday. The same entry procedure is followed with drivers invited to express an interest in entering the event. All applicants are evaluated by a committee to determine whether car driver and/or machinery meet the set criteria. \nClassic Car Friday offers a unique atmosphere and a collection of cars that is not to be missed. \nTrack action is from 07h45-15h20 with the field limited to 75 cars. \nThe King of the Hill Shootout\nWhile the Classic Car Friday competitors are in action on the hill\, the King of the Hill cars will be scrutineered and on display at the Fan Fest on Friday. The parade for these tyre smoking\, roaring cars closes proceedings in front of thousands of spectators lining the road. \nSaturday and Sunday’s action is dubbed the King of the Hill Shootout and is where the country’s fastest machinery will duel it out on the Simola hill. With entries in the Shootout limited to 84 cars\, demand for places in the event is oversubscribed with all spots allocated well before the closing date for entries. \nThe event is an invitation event for competitors. Drivers are invited to express an interest in entering the event. All applicants are evaluated by a committee to determine whether car driver and/or machinery meet the set criteria. \nPreference will be given to competitors and cars with a strong motorsport history and/or heritage and/or spectator value. These do not have to be the most expensive cars\, just the most interesting. This is to ensure that fans will witness some of the country’s meanest\, sleekest\, prettiest and most spectacular cars taking to the track during the weekend. \nThe identified list of potential entries will then be invited to enter the Simola Hillclimb. \nTrack action is from 09h00-16h30 on Saturday and 09h00-15h30 on Sunday.
URL:https://scuderiascribante.co.za/event/knysna-hill-climb/
LOCATION:Simola Hill Climb\, Knysna\, Western Cape
CATEGORIES:Motor Racing
ATTACH;FMTTYPE=image/jpeg:https://scuderiascribante.co.za/wp-content/uploads/2023/05/20-Aldo-Scribante-2011-Audi-S4-photo-Rob-Till-27.jpeg
ORGANIZER;CN="Speed Festival":MAILTO:info@speedfestival.co.za
END:VEVENT
BEGIN:VEVENT
DTSTART;VALUE=DATE:20230429
DTEND;VALUE=DATE:20230430
DTSTAMP:20260423T002415
CREATED:20230523T050751Z
LAST-MODIFIED:20230523T054112Z
UID:10595-1682726400-1682812799@scuderiascribante.co.za
SUMMARY:SAGT - Round 3 & 4
DESCRIPTION:The circuit at Redstar was designed to have challenging corners that flow from the apex of one to the entry of another. This ensures a challenge for rides of all levels\, while at the same time providing spectator value. The main stand at RedStar provides the best seat in the house\, overlooking not only the start and finish straight but also providing a great view of the hairpin bend.
URL:https://scuderiascribante.co.za/event/sagt-round-3-4/
LOCATION:Redstar Raceway\, N12 Zonderfout Farm I226\, Portion 5\, Delmas\, Mpumalanga\, 2210\, South Africa
CATEGORIES:Motor Racing
ATTACH;FMTTYPE=image/jpeg:https://scuderiascribante.co.za/wp-content/uploads/2023/05/Red-Star-Raceway.jpg
END:VEVENT
BEGIN:VEVENT
DTSTART;VALUE=DATE:20230415
DTEND;VALUE=DATE:20230416
DTSTAMP:20260423T002415
CREATED:20231206T101556Z
LAST-MODIFIED:20240120T134102Z
UID:11883-1681516800-1681603199@scuderiascribante.co.za
SUMMARY:Karting-Regional Round 2
DESCRIPTION:The Celso Scribante Kart Track in Port Elizabeth is the Eastern Cape’s premier kart racing track and home to the Algoa Kart and Motorcycle Club. The circuit is a base for development karting and has produced many National Champions. \nClasses hosted at the track include: – Cadets – GP Junior – Tag Junior – Formula 125 Light – Formula 125 Heavy – Super Rok
URL:https://scuderiascribante.co.za/event/karting-regional-round-2/
LOCATION:Celso Scribante Kart Track\, Celso Scribante Short Circuit\, Schoenmakerskop\, Port Elizabeth\, Eastern Cape\, 6001\, South Africa
CATEGORIES:Kart Racing,Motor Racing
ATTACH;FMTTYPE=image/jpeg:https://scuderiascribante.co.za/wp-content/uploads/2024/01/Celso-scribante-kart-track.jpg
END:VEVENT
BEGIN:VEVENT
DTSTART;VALUE=DATE:20230324
DTEND;VALUE=DATE:20230326
DTSTAMP:20260423T002415
CREATED:20231206T101711Z
LAST-MODIFIED:20240120T134201Z
UID:11886-1679616000-1679788799@scuderiascribante.co.za
SUMMARY:Karting-Nationals
DESCRIPTION:The Celso Scribante Kart Track in Port Elizabeth is the Eastern Cape’s premier kart racing track and home to the Algoa Kart and Motorcycle Club. The circuit is a base for development karting and has produced many National Champions. \nClasses hosted at the track include: – Cadets – GP Junior – Tag Junior – Formula 125 Light – Formula 125 Heavy – Super Rok
URL:https://scuderiascribante.co.za/event/karting-nationals/
LOCATION:Celso Scribante Kart Track\, Celso Scribante Short Circuit\, Schoenmakerskop\, Port Elizabeth\, Eastern Cape\, 6001\, South Africa
CATEGORIES:Kart Racing,Motor Racing
ATTACH;FMTTYPE=image/jpeg:https://scuderiascribante.co.za/wp-content/uploads/2024/01/Celso-scribante-kart-track.jpg
END:VEVENT
BEGIN:VEVENT
DTSTART;VALUE=DATE:20230311
DTEND;VALUE=DATE:20230312
DTSTAMP:20260423T002415
CREATED:20231206T101819Z
LAST-MODIFIED:20240120T134140Z
UID:11889-1678492800-1678579199@scuderiascribante.co.za
SUMMARY:Karting-Regional Round 1
DESCRIPTION:The Celso Scribante Kart Track in Port Elizabeth is the Eastern Cape’s premier kart racing track and home to the Algoa Kart and Motorcycle Club. The circuit is a base for development karting and has produced many National Champions. \nClasses hosted at the track include: – Cadets – GP Junior – Tag Junior – Formula 125 Light – Formula 125 Heavy – Super Rok
URL:https://scuderiascribante.co.za/event/karting-regional-round-1/
LOCATION:Celso Scribante Kart Track\, Celso Scribante Short Circuit\, Schoenmakerskop\, Port Elizabeth\, Eastern Cape\, 6001\, South Africa
CATEGORIES:Kart Racing,Motor Racing
ATTACH;FMTTYPE=image/jpeg:https://scuderiascribante.co.za/wp-content/uploads/2024/01/Celso-scribante-kart-track.jpg
END:VEVENT
BEGIN:VEVENT
DTSTART;VALUE=DATE:20230304
DTEND;VALUE=DATE:20230306
DTSTAMP:20260423T002415
CREATED:20230305T171451Z
LAST-MODIFIED:20240404T132817Z
UID:9438-1677888000-1678060799@scuderiascribante.co.za
SUMMARY:SAGT - Round 1 & 2
DESCRIPTION:Zwartskop Raceway is a renowned motorsport complex located in Pretoria. With a rich history and a reputation for thrilling racing events\, Zwartskop Raceway has become a beloved destination for motorsport enthusiasts and professionals alike. \nThe raceway features a meticulously designed track that offers a challenging and exhilarating experience for drivers. Its layout incorporates a mix of straightaways\, hairpin turns\, and technical corners\, providing a diverse and exciting environment for racing competitions. Whether it’s car racing or motorcycle championships\, Zwartskop Raceway has witnessed some of the most gripping battles and memorable moments in motorsport. \nBeyond its track\, Zwartskop Raceway boasts a vibrant and passionate community. The paddock area serves as a hub for racing teams\, mechanics\, and avid fans\, fostering an atmosphere of camaraderie and shared enthusiasm. It’s a place where petrolheads can come together\, exchange stories\, and immerse themselves in the world of automotive culture. \nIn addition to its thrilling racing action\, Zwartskop Raceway offers a range of amenities for visitors. Spectator stands provide excellent views of the track\, ensuring that everyone can witness the intense racing up close. The pit areas are well-equipped\, catering to the needs of teams and providing a space for mechanics to fine-tune their vehicles.
URL:https://scuderiascribante.co.za/event/sagt-round-1-2/
LOCATION:Zwartkops Raceway\, R55\, Lekkerhoekie 450-Jr\, Pretoria\, Gauteng\, 0137\, South Africa
CATEGORIES:Motor Racing
ATTACH;FMTTYPE=image/png:https://scuderiascribante.co.za/wp-content/uploads/2023/03/Zwartkops-Raceway.png
ORGANIZER;CN="Francesca Scribante":MAILTO:fran@scuderiascribante.co.za
END:VEVENT
END:VCALENDAR