BEGIN:VCALENDAR
VERSION:2.0
PRODID:-//Scuderia Scribante - ECPv6.15.20//NONSGML v1.0//EN
CALSCALE:GREGORIAN
METHOD:PUBLISH
X-WR-CALNAME:Scuderia Scribante
X-ORIGINAL-URL:https://scuderiascribante.co.za
X-WR-CALDESC:Events for Scuderia Scribante
REFRESH-INTERVAL;VALUE=DURATION:PT1H
X-Robots-Tag:noindex
X-PUBLISHED-TTL:PT1H
BEGIN:VTIMEZONE
TZID:Africa/Johannesburg
BEGIN:STANDARD
TZOFFSETFROM:+0200
TZOFFSETTO:+0200
TZNAME:SAST
DTSTART:20250101T000000
END:STANDARD
END:VTIMEZONE
BEGIN:VEVENT
DTSTART;VALUE=DATE:20260925
DTEND;VALUE=DATE:20260927
DTSTAMP:20260423T085229
CREATED:20240122T094225Z
LAST-MODIFIED:20260119T130242Z
UID:12014-1790294400-1790467199@scuderiascribante.co.za
SUMMARY:Killarney Time Attack
DESCRIPTION:Join us for heart-pounding action as drivers push their machines to the absolute limit in pursuit of the best lap time. This high-octane event showcases modified street cars\, purpose-built race machines\, and everything in between as competitors battle against the clock on a portion of the Killarney circuit in reverse layout.
URL:https://scuderiascribante.co.za/event/killarney-time-attack/
LOCATION:Killarney Raceway\, 6 Potsdam Road\, Table View\, Cape Town\, Western Cape\, 7439\, South Africa
CATEGORIES:Motor Racing
ATTACH;FMTTYPE=image/jpeg:https://scuderiascribante.co.za/wp-content/uploads/2024/11/Zwartkops-Hillclimb-1.jpg
END:VEVENT
BEGIN:VEVENT
DTSTART;VALUE=DATE:20261023
DTEND;VALUE=DATE:20261026
DTSTAMP:20260423T085229
CREATED:20240122T093428Z
LAST-MODIFIED:20260119T131046Z
UID:12011-1792713600-1792972799@scuderiascribante.co.za
SUMMARY:Cape Town Hill Climb
DESCRIPTION:Witness an unparalleled fusion of speed\, skill\, and spectacle where legendary machines and next-gen performance share the spotlight. \nSpeed Classic Cape Town is more than just a race – it is a two-day lifestyle experience that blends the thrill and the elegance of motor racing and community at the foot of Table Mountain.
URL:https://scuderiascribante.co.za/event/cape-town-hill-climb/
LOCATION:Gauteng
CATEGORIES:Kart Racing
ATTACH;FMTTYPE=image/jpeg:https://scuderiascribante.co.za/wp-content/uploads/2024/10/WhatsApp-Image-2024-10-29-at-12.18.39-1.jpeg
END:VEVENT
END:VCALENDAR