BEGIN:VCALENDAR
VERSION:2.0
PRODID:-//Scuderia Scribante - ECPv6.15.20//NONSGML v1.0//EN
CALSCALE:GREGORIAN
METHOD:PUBLISH
X-WR-CALNAME:Scuderia Scribante
X-ORIGINAL-URL:https://scuderiascribante.co.za
X-WR-CALDESC:Events for Scuderia Scribante
REFRESH-INTERVAL;VALUE=DURATION:PT1H
X-Robots-Tag:noindex
X-PUBLISHED-TTL:PT1H
BEGIN:VTIMEZONE
TZID:Africa/Johannesburg
BEGIN:STANDARD
TZOFFSETFROM:+0200
TZOFFSETTO:+0200
TZNAME:SAST
DTSTART:20230101T000000
END:STANDARD
END:VTIMEZONE
BEGIN:VEVENT
DTSTART;VALUE=DATE:20240607
DTEND;VALUE=DATE:20240608
DTSTAMP:20260424T202720
CREATED:20231130T114659Z
LAST-MODIFIED:20240304T120517Z
UID:11458-1717718400-1717804799@scuderiascribante.co.za
SUMMARY:Aldo Scribante Raceway Hot Lap
DESCRIPTION:Experience the thrill of a lifetime with our exhilarating Hot Lap in a Scuderia Scribante Lamborghini Huracan! Strap yourself in and prepare for an adrenaline-pumping adventure that will leave you breathless. \nImagine being seated in the cockpit of a high-performance Lamborghini Race Car\, surrounded by the raw power and precision engineering that defines the world of motorsports. As our professional racing driver takes the wheel\, you will be propelled into a world where speed\, skill\, and sheer excitement reign supreme. \nOur Hot Lap experience offers you the unique opportunity to witness first-hand what it feels like to tear through the track at blistering speeds. Feel the surge of acceleration as the engine roars to life\, and the G-forces push you back into your seat. Hold on tight as the expert driver skillfully manoeuvres around corners\, delivering a heart-stopping display of precision and control. \n 
URL:https://scuderiascribante.co.za/event/aldo-scribante-raceway-hot-lap/
LOCATION:Aldo Scribante Race Way\, Aldo Scribante Race Circuit\, Coega IDZ\, Gqeberha\, 6001\, Port Elizabeth\, Eastern Cape\, 6001\, South Africa
CATEGORIES:Hot Laps
ATTACH;FMTTYPE=image/jpeg:https://scuderiascribante.co.za/wp-content/uploads/2023/07/IMG_7828.jpg
ORGANIZER;CN="Francesca Scribante":MAILTO:fran@scuderiascribante.co.za
END:VEVENT
END:VCALENDAR