BEGIN:VCALENDAR
VERSION:2.0
PRODID:-//Scuderia Scribante - ECPv6.15.20//NONSGML v1.0//EN
CALSCALE:GREGORIAN
METHOD:PUBLISH
X-WR-CALNAME:Scuderia Scribante
X-ORIGINAL-URL:https://scuderiascribante.co.za
X-WR-CALDESC:Events for Scuderia Scribante
REFRESH-INTERVAL;VALUE=DURATION:PT1H
X-Robots-Tag:noindex
X-PUBLISHED-TTL:PT1H
BEGIN:VTIMEZONE
TZID:Africa/Johannesburg
BEGIN:STANDARD
TZOFFSETFROM:+0200
TZOFFSETTO:+0200
TZNAME:SAST
DTSTART:20250101T000000
END:STANDARD
END:VTIMEZONE
BEGIN:VEVENT
DTSTART;TZID=Africa/Johannesburg:20260626T070000
DTEND;TZID=Africa/Johannesburg:20260627T220000
DTSTAMP:20260422T134834
CREATED:20240122T115233Z
LAST-MODIFIED:20260119T121912Z
UID:12065-1782457200-1782597600@scuderiascribante.co.za
SUMMARY:National Extreme Festival
DESCRIPTION:The Extreme Festival is a motoring festival that includes on track motor racing and off track entertainment for the whole family.
URL:https://scuderiascribante.co.za/event/national-extreme-festival/
LOCATION:Aldo Scribante Race Way\, Aldo Scribante Race Circuit\, Coega IDZ\, Gqeberha\, 6001\, Port Elizabeth\, Eastern Cape\, 6001\, South Africa
CATEGORIES:Motor Racing
ATTACH;FMTTYPE=image/jpeg:https://scuderiascribante.co.za/wp-content/uploads/2024/01/DSC01861-1.jpg
END:VEVENT
END:VCALENDAR